BEGIN:VCALENDAR
VERSION:2.0
PRODID:icalendar-ruby
CALSCALE:GREGORIAN
METHOD:PUBLISH
BEGIN:VEVENT
DTSTAMP:20260426T043605Z
UID:213-1987578@mywestside.ca
DTSTART:20261020T010000Z
DTEND:20261020T020000Z
CLASS:PUBLIC
CREATED:20260425T182800
DESCRIPTION:
LAST-MODIFIED:20260425T182800
LOCATION:480 McMaster Blvd. W
SUMMARY:Weekly Prayer Meetings
URL;VALUE=URI:https://mywestside.ca/events/weekly-prayer-meetings/2026-10-1
 9
ATTACH;FILENAME=weeklyprayermeets.png;FMTTYPE=image/png:https://dq5pwpg1q8r
 u0.cloudfront.net/2025/09/15/18/04/07/77d6bb12-e0e2-4813-9c72-4b7fa49add11
 /weeklyprayermeets.png
END:VEVENT
END:VCALENDAR
