BEGIN:VCALENDAR
VERSION:2.0
PRODID:icalendar-ruby
CALSCALE:GREGORIAN
METHOD:PUBLISH
BEGIN:VEVENT
DTSTAMP:20260423T050740Z
UID:215-1961537@mywestside.ca
DTSTART:20261016T140000Z
DTEND:20261016T153000Z
CLASS:PUBLIC
CREATED:20260422T193556
DESCRIPTION:
LAST-MODIFIED:20260422T193556
LOCATION:480 McMaster Blvd. W
SUMMARY:Weekly Prayer Meetings
URL;VALUE=URI:https://mywestside.ca/events/weekly-prayer-meetings--214/2026
 -10-16
ATTACH;FILENAME=weeklyprayermeets.png;FMTTYPE=image/png:https://dq5pwpg1q8r
 u0.cloudfront.net/2025/09/15/18/05/25/a86b8f42-76dc-4c89-9dd1-0c3b167638ce
 /weeklyprayermeets.png
END:VEVENT
END:VCALENDAR
